BEGIN:VCALENDAR
VERSION:2.0
PRODID:-//Thunder Bay Regional Health Sciences Centre - ECPv5.5.0.1//NONSGML v1.0//EN
CALSCALE:GREGORIAN
METHOD:PUBLISH
X-WR-CALNAME:Thunder Bay Regional Health Sciences Centre
X-ORIGINAL-URL:https://tbrhsc.net
X-WR-CALDESC:Events for Thunder Bay Regional Health Sciences Centre
BEGIN:VTIMEZONE
TZID:America/Thunder_Bay
BEGIN:DAYLIGHT
TZOFFSETFROM:-0500
TZOFFSETTO:-0400
TZNAME:EDT
DTSTART:20180311T070000
END:DAYLIGHT
BEGIN:STANDARD
TZOFFSETFROM:-0400
TZOFFSETTO:-0500
TZNAME:EST
DTSTART:20181104T060000
END:STANDARD
END:VTIMEZONE
BEGIN:VEVENT
DTSTART;TZID=America/Thunder_Bay:20180911T120000
DTEND;TZID=America/Thunder_Bay:20180911T130000
DTSTAMP:20260424T102909
CREATED:20180830T171501Z
LAST-MODIFIED:20180830T171549Z
UID:19279-1536667200-1536670800@tbrhsc.net
SUMMARY:Psychosocial Rounds - A look into Psychodynamic Pharmacotherapy
DESCRIPTION:Topics to be presented:\n– A case scenario\n– Does a patient’s psychology influence pharmacotherapy?\n– What matters in pharmacotherapy?\n– How do we work with psychology and pharmacotherapy?\n– Questions and discussion period  \nSee attached poster for more information\nView Attachment
URL:https://tbrhsc.net/event-old/psychosocial-rounds-a-look-into-psychodynamic-pharmacotherapy/
LOCATION:Thunder Bay Regional Health Sciences Centre – Auditorium B – 980 Oliver Road
CATEGORIES:Education,Psychosocial,Rounds
END:VEVENT
END:VCALENDAR